BEGIN:VCALENDAR
VERSION:2.0
PRODID:-//Avon Badminton Association - ECPv6.15.14//NONSGML v1.0//EN
CALSCALE:GREGORIAN
METHOD:PUBLISH
X-ORIGINAL-URL:https://avonba.org
X-WR-CALDESC:Events for Avon Badminton Association
REFRESH-INTERVAL;VALUE=DURATION:PT1H
X-Robots-Tag:noindex
X-PUBLISHED-TTL:PT1H
BEGIN:VTIMEZONE
TZID:Europe/London
BEGIN:DAYLIGHT
TZOFFSETFROM:+0000
TZOFFSETTO:+0100
TZNAME:BST
DTSTART:20250330T010000
END:DAYLIGHT
BEGIN:STANDARD
TZOFFSETFROM:+0100
TZOFFSETTO:+0000
TZNAME:GMT
DTSTART:20251026T010000
END:STANDARD
BEGIN:DAYLIGHT
TZOFFSETFROM:+0000
TZOFFSETTO:+0100
TZNAME:BST
DTSTART:20260329T010000
END:DAYLIGHT
BEGIN:STANDARD
TZOFFSETFROM:+0100
TZOFFSETTO:+0000
TZNAME:GMT
DTSTART:20261025T010000
END:STANDARD
BEGIN:DAYLIGHT
TZOFFSETFROM:+0000
TZOFFSETTO:+0100
TZNAME:BST
DTSTART:20270328T010000
END:DAYLIGHT
BEGIN:STANDARD
TZOFFSETFROM:+0100
TZOFFSETTO:+0000
TZNAME:GMT
DTSTART:20271031T010000
END:STANDARD
END:VTIMEZONE
BEGIN:VEVENT
DTSTART;TZID=Europe/London:20260327T190000
DTEND;TZID=Europe/London:20260327T210000
DTSTAMP:20260424T133956
CREATED:20251103T165146Z
LAST-MODIFIED:20251103T170326Z
UID:1271-1774638000-1774645200@avonba.org
SUMMARY:Bristol Bullets vs Team Skyfall
DESCRIPTION:Bristol Bullets second home match sees it taking on Team Skyfall at Chellaram Sports Complex\, Abbots Leigh \nOther home matches this season take place at Clifton College’s Chellaram Sports Complex on Friday 23 January and Friday 17 April. Get those dates in your diary – tickets go on sale soon! \nFollow Bristol Bullets online and show your support for your local team! \nWith thanks to Bristol Bullets’ sponsors AIXO\, ManageEasy\, Padel4All\, PotPot Malatang Bristol
URL:https://avonba.org/event/bristol-bullets-vs-team-skyfall/
LOCATION:Chellaram Sports Complex\, Clifton College Sports Ground\, Abbots Leigh\, Bristol\, BS8 3QD\, United Kingdom
CATEGORIES:National Badminton League
ATTACH;FMTTYPE=image/jpeg:https://avonba.org/wp-content/uploads/2025/11/NBL_header.jpg
END:VEVENT
END:VCALENDAR