BEGIN:VCALENDAR
VERSION:2.0
PRODID:-//Avon Badminton Association - ECPv6.15.14//NONSGML v1.0//EN
CALSCALE:GREGORIAN
METHOD:PUBLISH
X-ORIGINAL-URL:https://avonba.org
X-WR-CALDESC:Events for Avon Badminton Association
REFRESH-INTERVAL;VALUE=DURATION:PT1H
X-Robots-Tag:noindex
X-PUBLISHED-TTL:PT1H
BEGIN:VTIMEZONE
TZID:Europe/London
BEGIN:DAYLIGHT
TZOFFSETFROM:+0000
TZOFFSETTO:+0100
TZNAME:BST
DTSTART:20250330T010000
END:DAYLIGHT
BEGIN:STANDARD
TZOFFSETFROM:+0100
TZOFFSETTO:+0000
TZNAME:GMT
DTSTART:20251026T010000
END:STANDARD
BEGIN:DAYLIGHT
TZOFFSETFROM:+0000
TZOFFSETTO:+0100
TZNAME:BST
DTSTART:20260329T010000
END:DAYLIGHT
BEGIN:STANDARD
TZOFFSETFROM:+0100
TZOFFSETTO:+0000
TZNAME:GMT
DTSTART:20261025T010000
END:STANDARD
BEGIN:DAYLIGHT
TZOFFSETFROM:+0000
TZOFFSETTO:+0100
TZNAME:BST
DTSTART:20270328T010000
END:DAYLIGHT
BEGIN:STANDARD
TZOFFSETFROM:+0100
TZOFFSETTO:+0000
TZNAME:GMT
DTSTART:20271031T010000
END:STANDARD
END:VTIMEZONE
BEGIN:VEVENT
DTSTART;TZID=Europe/London:20260123T190000
DTEND;TZID=Europe/London:20260123T210000
DTSTAMP:20260424T162903
CREATED:20251103T164652Z
LAST-MODIFIED:20251103T170629Z
UID:1268-1769194800-1769202000@avonba.org
SUMMARY:Bristol Bullets vs University of Nottingham
DESCRIPTION:Bristol Bullets first home match sees it taking on University of Nottingham at Chellaram Sports Complex\, Abbots Leigh \nBristol Bullets makes its home match debut on Friday 23 January vs the University of Nottingham in the National Badminton League. \nOther home matches take place at Clifton College’s Chellaram Sports Complex on Friday 27 March and Friday 17 April. Get those dates in your diary – tickets go on sale soon! \nFollow Bristol Bullets online and show your support for your local team! \nWith thanks to Bristol Bullets’ sponsors AIXO\, ManageEasy\, Padel4All\, PotPot Malatang Bristol
URL:https://avonba.org/event/bristol-bullets-vs-uon/
LOCATION:Chellaram Sports Complex\, Clifton College Sports Ground\, Abbots Leigh\, Bristol\, BS8 3QD\, United Kingdom
CATEGORIES:National Badminton League
ATTACH;FMTTYPE=image/jpeg:https://avonba.org/wp-content/uploads/2025/11/NBL_header.jpg
END:VEVENT
BEGIN:VEVENT
DTSTART;TZID=Europe/London:20260125T100000
DTEND;TZID=Europe/London:20260125T170000
DTSTAMP:20260424T162903
CREATED:20251111T094039Z
LAST-MODIFIED:20251111T094039Z
UID:1305-1769335200-1769360400@avonba.org
SUMMARY:South West Disability Tournament 2026
DESCRIPTION:Junior and adult badminton tournament for players with a physical disability or learning difficulty. Suitable for those who currently play badminton. For more details and to enter\, visit https://be.tournamentsoftware.com/tournament/B4B644DC-EDEC-4465-BE5E-F22319EF451D
URL:https://avonba.org/event/sw-disability-tournament-2026/
LOCATION:Gordano School Sports Centre\, St Mary's Road\, Portishead\, BS20 7QR\, United Kingdom
CATEGORIES:Disability badminton,Tournament
ATTACH;FMTTYPE=image/jpeg:https://avonba.org/wp-content/uploads/2025/11/disability-badminton-adj.jpg
ORGANIZER;CN="Badminton England - James Elkin":MAILTO:jameselkin23@gmail.com
END:VEVENT
END:VCALENDAR