BEGIN:VCALENDAR
VERSION:2.0
PRODID:-//Avon Badminton Association - ECPv6.15.14//NONSGML v1.0//EN
CALSCALE:GREGORIAN
METHOD:PUBLISH
X-WR-CALNAME:Avon Badminton Association
X-ORIGINAL-URL:https://avonba.org
X-WR-CALDESC:Events for Avon Badminton Association
REFRESH-INTERVAL;VALUE=DURATION:PT1H
X-Robots-Tag:noindex
X-PUBLISHED-TTL:PT1H
BEGIN:VTIMEZONE
TZID:Europe/London
BEGIN:DAYLIGHT
TZOFFSETFROM:+0000
TZOFFSETTO:+0100
TZNAME:BST
DTSTART:20240331T010000
END:DAYLIGHT
BEGIN:STANDARD
TZOFFSETFROM:+0100
TZOFFSETTO:+0000
TZNAME:GMT
DTSTART:20241027T010000
END:STANDARD
BEGIN:DAYLIGHT
TZOFFSETFROM:+0000
TZOFFSETTO:+0100
TZNAME:BST
DTSTART:20250330T010000
END:DAYLIGHT
BEGIN:STANDARD
TZOFFSETFROM:+0100
TZOFFSETTO:+0000
TZNAME:GMT
DTSTART:20251026T010000
END:STANDARD
BEGIN:DAYLIGHT
TZOFFSETFROM:+0000
TZOFFSETTO:+0100
TZNAME:BST
DTSTART:20260329T010000
END:DAYLIGHT
BEGIN:STANDARD
TZOFFSETFROM:+0100
TZOFFSETTO:+0000
TZNAME:GMT
DTSTART:20261025T010000
END:STANDARD
END:VTIMEZONE
BEGIN:VEVENT
DTSTART;VALUE=DATE:20250628
DTEND;VALUE=DATE:20250629
DTSTAMP:20260424T220440
CREATED:20250316T224743Z
LAST-MODIFIED:20250323T195848Z
UID:404-1751068800-1751155199@avonba.org
SUMMARY:Avon Bronze
DESCRIPTION:Open to all players born 2008 or earlier\, graded from D to K\, and ungraded players
URL:https://avonba.org/event/avon-bronze-june-2025/
LOCATION:Gordano School Sports Centre\, St Mary's Road\, Portishead\, BS20 7QR\, United Kingdom
CATEGORIES:Tournament
ATTACH;FMTTYPE=image/jpeg:https://avonba.org/wp-content/uploads/2024/05/badminton-day-one-52_53207536637_o-scaled.jpg
ORGANIZER;CN="Bob Hammersley - Avon Badminton Association":MAILTO:bobhammersley.avonba@gmail.com
END:VEVENT
BEGIN:VEVENT
DTSTART;TZID=Europe/London:20250624T183000
DTEND;TZID=Europe/London:20250624T213000
DTSTAMP:20260424T220440
CREATED:20250323T191128Z
LAST-MODIFIED:20250323T191128Z
UID:497-1750789800-1750800600@avonba.org
SUMMARY:Disability Badminton Workshop
DESCRIPTION:This workshop aims to develop your knowledge\, awareness and confidence to deliver badminton sessions to a range of various impairments disabled participants might have. \n\nOn this workshop\, you will cover the following areas:\nUnderstanding movement and hitting for wheelchair badminton.\nUnderstanding the implications for coaching badminton to disabled participants with standing lower impairments.\nUnderstanding the implications for coaching badminton to disabled participants with standing upper impairments.\nUnderstanding the implications for coaching badminton to short stature participants.\n\nThe workshop will breakdown as follows: \n\nIntroduction to the workshop & tutor (15mins)\nMovement in wheelchair badminton (30mins)\nHitting actions in wheelchair badminton (50mins)\nCoaching standing lower impairments in badminton (25mins)\nCoaching standing upper impairments in badminton (25mins)\nCoaching short stature participants in badminton (25mins)\nSummary (10mins)\n\nWhat to bring with you\nPlease come prepared to be active on court for the duration of the workshop. Therefore\, suitable sports attire and a badminton racket is required. Please also bring a note pad and pen or tablets/ smart phones if you wish to take notes/ capture the workshop to take away with you. \nBooking Deadline\n10 June 2025 – book at https://badmintonengland.justgo.com/ \nPrice\n£10 \nTerms and Conditions:\nAll learners must be 16 or over on the day of the workshop.
URL:https://avonba.org/event/disability-badminton-workshop/
LOCATION:Sedgemoor Manor School\, Blackford Road\, Mark\, TA9 4NP
CATEGORIES:Disability badminton
ATTACH;FMTTYPE=image/jpeg:https://avonba.org/wp-content/uploads/2025/03/disability-badminton.jpg
ORGANIZER;CN="Badminton England - James Elkin":MAILTO:jameselkin23@gmail.com
END:VEVENT
BEGIN:VEVENT
DTSTART;VALUE=DATE:20250531
DTEND;VALUE=DATE:20250601
DTSTAMP:20260424T220440
CREATED:20250316T224539Z
LAST-MODIFIED:20250323T195830Z
UID:400-1748649600-1748735999@avonba.org
SUMMARY:University of Bath Senior Bronze
DESCRIPTION:Open to all players born 2008 or earlier\, graded from D to K\, and ungraded players
URL:https://avonba.org/event/bath-bronze-may-2025/
LOCATION:University of Bath Sports Training Village\, University Of Bath\, Claverton Down Road\, Bath\, BA2 7AY\, United Kingdom
CATEGORIES:Tournament
ATTACH;FMTTYPE=image/jpeg:https://avonba.org/wp-content/uploads/2025/03/avon-badminton-47_53340897820_o.jpg
ORGANIZER;CN="Bob Hammersley - Avon Badminton Association":MAILTO:bobhammersley.avonba@gmail.com
END:VEVENT
BEGIN:VEVENT
DTSTART;VALUE=DATE:20250405
DTEND;VALUE=DATE:20250406
DTSTAMP:20260424T220440
CREATED:20250316T205226Z
LAST-MODIFIED:20250325T000340Z
UID:372-1743811200-1743897599@avonba.org
SUMMARY:Avon Tier 4
DESCRIPTION:Tournament with singles\, level and mixed doubles events open to all players born 2008 or earlier\, graded from F to K\, and ungraded players
URL:https://avonba.org/event/avon-tier-4-april-2025/
LOCATION:Gordano School Sports Centre\, St Mary's Road\, Portishead\, BS20 7QR\, United Kingdom
CATEGORIES:Tournament
ATTACH;FMTTYPE=image/jpeg:https://avonba.org/wp-content/uploads/2024/05/shuttle-close-up.jpg
ORGANIZER;CN="Bob Hammersley - Avon Badminton Association":MAILTO:bobhammersley.avonba@gmail.com
END:VEVENT
END:VCALENDAR