BEGIN:VCALENDAR
VERSION:2.0
PRODID:-//Avon Badminton Association - ECPv6.15.14//NONSGML v1.0//EN
CALSCALE:GREGORIAN
METHOD:PUBLISH
X-ORIGINAL-URL:https://avonba.org
X-WR-CALDESC:Events for Avon Badminton Association
REFRESH-INTERVAL;VALUE=DURATION:PT1H
X-Robots-Tag:noindex
X-PUBLISHED-TTL:PT1H
BEGIN:VTIMEZONE
TZID:Europe/London
BEGIN:DAYLIGHT
TZOFFSETFROM:+0000
TZOFFSETTO:+0100
TZNAME:BST
DTSTART:20250330T010000
END:DAYLIGHT
BEGIN:STANDARD
TZOFFSETFROM:+0100
TZOFFSETTO:+0000
TZNAME:GMT
DTSTART:20251026T010000
END:STANDARD
BEGIN:DAYLIGHT
TZOFFSETFROM:+0000
TZOFFSETTO:+0100
TZNAME:BST
DTSTART:20260329T010000
END:DAYLIGHT
BEGIN:STANDARD
TZOFFSETFROM:+0100
TZOFFSETTO:+0000
TZNAME:GMT
DTSTART:20261025T010000
END:STANDARD
BEGIN:DAYLIGHT
TZOFFSETFROM:+0000
TZOFFSETTO:+0100
TZNAME:BST
DTSTART:20270328T010000
END:DAYLIGHT
BEGIN:STANDARD
TZOFFSETFROM:+0100
TZOFFSETTO:+0000
TZNAME:GMT
DTSTART:20271031T010000
END:STANDARD
END:VTIMEZONE
BEGIN:VEVENT
DTSTART;TZID=Europe/London:20260613T190000
DTEND;TZID=Europe/London:20260613T233000
DTSTAMP:20260424T134534
CREATED:20250316T231300Z
LAST-MODIFIED:20251031T195818Z
UID:417-1781377200-1781393400@avonba.org
SUMMARY:The Seventh Avon Dinner Dance
DESCRIPTION:Doors open 7pm • Welcome drink on arrival • 2-course sit down meal • Awards and speeches • Dancing until late \nA celebration of an amazing year of badminton in Avon at all ages and levels\, grass roots through to national and international competition. \nDress code – black tie/smart/fabulous. No sportswear. \nUnder 18s welcome with a parent or guardian accompanying them\, who will also need a ticket for themselves. \nThe ticket price includes a 2-course sit down meal. Please select your dietary requirements from the dropdown list when you book and give details of any additional information that we may need to know in the box provided. \nNominations for awards will be invited for Coach of the Year\, Club of the Year\, Club Player of the Year\, Volunteer of the Year\, Young Ambassador of the Year\, and the Growing Badminton Award.
URL:https://avonba.org/event/the-seventh-avon-dinner-dance/
LOCATION:The Pravha Lounge\, Ashton Gate Stadium\, Bristol\, BS3 2EJ\, United Kingdom
ATTACH;FMTTYPE=image/jpeg:https://avonba.org/wp-content/uploads/2025/03/dinner-dance-2026.jpg
ORGANIZER;CN="Avon Badminton Association":MAILTO:contact@avonba.org
END:VEVENT
END:VCALENDAR